BEGIN:VCALENDAR
VERSION:2.0
PRODID:-//Saucon Source - ECPv6.15.12.2//NONSGML v1.0//EN
CALSCALE:GREGORIAN
METHOD:PUBLISH
X-WR-CALNAME:Saucon Source
X-ORIGINAL-URL:https://sauconsource.com
X-WR-CALDESC:Events for Saucon Source
REFRESH-INTERVAL;VALUE=DURATION:PT1H
X-Robots-Tag:noindex
X-PUBLISHED-TTL:PT1H
BEGIN:VTIMEZONE
TZID:America/New_York
BEGIN:DAYLIGHT
TZOFFSETFROM:-0500
TZOFFSETTO:-0400
TZNAME:EDT
DTSTART:20240310T070000
END:DAYLIGHT
BEGIN:STANDARD
TZOFFSETFROM:-0400
TZOFFSETTO:-0500
TZNAME:EST
DTSTART:20241103T060000
END:STANDARD
BEGIN:DAYLIGHT
TZOFFSETFROM:-0500
TZOFFSETTO:-0400
TZNAME:EDT
DTSTART:20250309T070000
END:DAYLIGHT
BEGIN:STANDARD
TZOFFSETFROM:-0400
TZOFFSETTO:-0500
TZNAME:EST
DTSTART:20251102T060000
END:STANDARD
BEGIN:DAYLIGHT
TZOFFSETFROM:-0500
TZOFFSETTO:-0400
TZNAME:EDT
DTSTART:20260308T070000
END:DAYLIGHT
BEGIN:STANDARD
TZOFFSETFROM:-0400
TZOFFSETTO:-0500
TZNAME:EST
DTSTART:20261101T060000
END:STANDARD
END:VTIMEZONE
BEGIN:VEVENT
DTSTART;TZID=America/New_York:20251111T190000
DTEND;TZID=America/New_York:20251111T210000
DTSTAMP:20260422T104307
CREATED:20251029T221226Z
LAST-MODIFIED:20251103T210548Z
UID:77205-1762887600-1762894800@sauconsource.com
SUMMARY:Saucon V-Mail Presentation
DESCRIPTION:Join the Hellertown Historical Society at our Tavern Room venue for a special Veterans Day presentation on Saucon V-Mail presented by HHS Volunteer Ken Bloss. Learn the intimate method on how Saucon V-Mail was the ingenious answer for hometown news to reach our local troops in combat zones during World War II\, raising their morale.
URL:https://sauconsource.com/event/saucon-v-mail-presentation/
LOCATION:Tavern Room at the Grist Mill\, 150 W Walnut Street\, Hellertown\, 18055
ATTACH;FMTTYPE=image/jpeg:https://d2qmf5gncpvslo.cloudfront.net/wp-content/uploads/2025/10/29181228/saucon-v-mail.jpg
ORGANIZER;CN="Hellertown Historical Society":MAILTO:info@hellertownhistoricalsociety.org
END:VEVENT
END:VCALENDAR